BEGIN:VCALENDAR
VERSION:2.0
PRODID:-//South Carolina Band Directors Association - ECPv6.15.20//NONSGML v1.0//EN
CALSCALE:GREGORIAN
METHOD:PUBLISH
X-WR-CALNAME:South Carolina Band Directors Association
X-ORIGINAL-URL:https://www.bandlink.org
X-WR-CALDESC:Events for South Carolina Band Directors Association
REFRESH-INTERVAL;VALUE=DURATION:PT1H
X-Robots-Tag:noindex
X-PUBLISHED-TTL:PT1H
BEGIN:VTIMEZONE
TZID:America/New_York
BEGIN:DAYLIGHT
TZOFFSETFROM:-0500
TZOFFSETTO:-0400
TZNAME:EDT
DTSTART:20170312T070000
END:DAYLIGHT
BEGIN:STANDARD
TZOFFSETFROM:-0400
TZOFFSETTO:-0500
TZNAME:EST
DTSTART:20171105T060000
END:STANDARD
BEGIN:DAYLIGHT
TZOFFSETFROM:-0500
TZOFFSETTO:-0400
TZNAME:EDT
DTSTART:20180311T070000
END:DAYLIGHT
BEGIN:STANDARD
TZOFFSETFROM:-0400
TZOFFSETTO:-0500
TZNAME:EST
DTSTART:20181104T060000
END:STANDARD
BEGIN:DAYLIGHT
TZOFFSETFROM:-0500
TZOFFSETTO:-0400
TZNAME:EDT
DTSTART:20190310T070000
END:DAYLIGHT
BEGIN:STANDARD
TZOFFSETFROM:-0400
TZOFFSETTO:-0500
TZNAME:EST
DTSTART:20191103T060000
END:STANDARD
END:VTIMEZONE
BEGIN:VEVENT
DTSTART;VALUE=DATE:20180505
DTEND;VALUE=DATE:20180506
DTSTAMP:20260422T215558
CREATED:20170515T122230Z
LAST-MODIFIED:20170515T122319Z
UID:10760-1525478400-1525564799@www.bandlink.org
SUMMARY:State Concert Band Festival
DESCRIPTION:
URL:https://www.bandlink.org/event/state-concert-band-festival/
LOCATION:Irmo High School\, 6671 St. Andrews Rd.\, Columbia\, SC\, 29212\, United States
CATEGORIES:Clinics,Concert Festival
ORGANIZER;CN="Craig Davis":MAILTO:ccdavis@lexington1.net
END:VEVENT
BEGIN:VEVENT
DTSTART;TZID=America/New_York:20180512T133000
DTEND;TZID=America/New_York:20180512T153000
DTSTAMP:20260422T215558
CREATED:20170515T122503Z
LAST-MODIFIED:20170515T122503Z
UID:10763-1526131800-1526139000@www.bandlink.org
SUMMARY:Executive Board Planning Meeting
DESCRIPTION:
URL:https://www.bandlink.org/event/executive-board-planning-meeting/
LOCATION:Hyatt Place Columbia\, 819 Gervais St.\, Columbia\, SC\, United States
CATEGORIES:Director Meetings,Other
ORGANIZER;CN="Leah Corde":MAILTO:lcorde@richland2.org
END:VEVENT
END:VCALENDAR