BEGIN:VCALENDAR
VERSION:2.0
PRODID:-//South Carolina Band Directors Association - ECPv6.15.20//NONSGML v1.0//EN
CALSCALE:GREGORIAN
METHOD:PUBLISH
X-WR-CALNAME:South Carolina Band Directors Association
X-ORIGINAL-URL:https://www.bandlink.org
X-WR-CALDESC:Events for South Carolina Band Directors Association
REFRESH-INTERVAL;VALUE=DURATION:PT1H
X-Robots-Tag:noindex
X-PUBLISHED-TTL:PT1H
BEGIN:VTIMEZONE
TZID:America/New_York
BEGIN:DAYLIGHT
TZOFFSETFROM:-0500
TZOFFSETTO:-0400
TZNAME:EDT
DTSTART:20170312T070000
END:DAYLIGHT
BEGIN:STANDARD
TZOFFSETFROM:-0400
TZOFFSETTO:-0500
TZNAME:EST
DTSTART:20171105T060000
END:STANDARD
BEGIN:DAYLIGHT
TZOFFSETFROM:-0500
TZOFFSETTO:-0400
TZNAME:EDT
DTSTART:20180311T070000
END:DAYLIGHT
BEGIN:STANDARD
TZOFFSETFROM:-0400
TZOFFSETTO:-0500
TZNAME:EST
DTSTART:20181104T060000
END:STANDARD
BEGIN:DAYLIGHT
TZOFFSETFROM:-0500
TZOFFSETTO:-0400
TZNAME:EDT
DTSTART:20190310T070000
END:DAYLIGHT
BEGIN:STANDARD
TZOFFSETFROM:-0400
TZOFFSETTO:-0500
TZNAME:EST
DTSTART:20191103T060000
END:STANDARD
END:VTIMEZONE
BEGIN:VEVENT
DTSTART;VALUE=DATE:20180209
DTEND;VALUE=DATE:20180210
DTSTAMP:20260423T041010
CREATED:20170515T121319Z
LAST-MODIFIED:20170515T121319Z
UID:10744-1518134400-1518220799@www.bandlink.org
SUMMARY:Deadline: Registration for All-State Band Clinic & Winter Ensemble Championships
DESCRIPTION:Registrations for \n\nAll-State Band Clinic\nWinter Ensemble Championships\n\nmust be submitted online and associated paperwork postmarked by this date. Please contact the event chairman and see the SCBDA Handbook if you have any questions or concerns.
URL:https://www.bandlink.org/event/deadline-registration-for-all-state-band-clinic-winter-ensemble-championships/
CATEGORIES:All-State Band,Winter Ensembles
END:VEVENT
BEGIN:VEVENT
DTSTART;VALUE=DATE:20180215
DTEND;VALUE=DATE:20180219
DTSTAMP:20260423T041010
CREATED:20170515T122910Z
LAST-MODIFIED:20170515T122910Z
UID:10770-1518652800-1518998399@www.bandlink.org
SUMMARY:SCMEA Professional Development Conference
DESCRIPTION:
URL:https://www.bandlink.org/event/scmea-professional-development-conference-2/
LOCATION:Columbia Metropolitan Convention Center\, 1101 Lincoln St.\, Columbia\, SC\, 29201\, United States
CATEGORIES:SCMEA Conference
END:VEVENT
BEGIN:VEVENT
DTSTART;TZID=America/New_York:20180217T140000
DTEND;TZID=America/New_York:20180217T160000
DTSTAMP:20260423T041010
CREATED:20170515T123142Z
LAST-MODIFIED:20170516T025346Z
UID:10772-1518876000-1518883200@www.bandlink.org
SUMMARY:Annual Business Meeting
DESCRIPTION:
URL:https://www.bandlink.org/event/annual-business-meeting/
LOCATION:USC Alumni Center\, 900 Senate Street\, Columbia\, SC\, 29201\, United States
CATEGORIES:Director Meetings
END:VEVENT
BEGIN:VEVENT
DTSTART;VALUE=DATE:20180223
DTEND;VALUE=DATE:20180225
DTSTAMP:20260423T041010
CREATED:20170516T145529Z
LAST-MODIFIED:20180206T190239Z
UID:10847-1519344000-1519516799@www.bandlink.org
SUMMARY:Region 1 Band Clinic
DESCRIPTION:Click Here for a schedule for the Region One Band Clinic.
URL:https://www.bandlink.org/event/region-1-clinic/
LOCATION:Converse College\, 580 E. Main St.\, Spartanburg\, SC\, 29302\, United States
CATEGORIES:Region Band
END:VEVENT
BEGIN:VEVENT
DTSTART;VALUE=DATE:20180223
DTEND;VALUE=DATE:20180225
DTSTAMP:20260423T041010
CREATED:20170516T145615Z
LAST-MODIFIED:20180128T193314Z
UID:10849-1519344000-1519516799@www.bandlink.org
SUMMARY:Region 2 Band Clinic
DESCRIPTION:
URL:https://www.bandlink.org/event/region-2-clinic/
LOCATION:Lexington High School\, 2463 Augusta Highway\, Lexington\, SC\, 29072\, United States
CATEGORIES:Clinics,Region Band
END:VEVENT
BEGIN:VEVENT
DTSTART;VALUE=DATE:20180223
DTEND;VALUE=DATE:20180225
DTSTAMP:20260423T041010
CREATED:20170516T150123Z
LAST-MODIFIED:20170516T150123Z
UID:10854-1519344000-1519516799@www.bandlink.org
SUMMARY:Region 3 Band Clinic
DESCRIPTION:
URL:https://www.bandlink.org/event/region-3-band-clinic-2/
LOCATION:Nation Ford High School\, 1400 A O Jones Blvd.\, Fort Mill\, SC\, 29715\, United States
CATEGORIES:Clinics,Region Band
END:VEVENT
BEGIN:VEVENT
DTSTART;VALUE=DATE:20180223
DTEND;VALUE=DATE:20180225
DTSTAMP:20260423T041010
CREATED:20170516T150213Z
LAST-MODIFIED:20170516T150213Z
UID:10856-1519344000-1519516799@www.bandlink.org
SUMMARY:Region 4 Band Clinic
DESCRIPTION:
URL:https://www.bandlink.org/event/region-4-band-clinic-2/
LOCATION:Charleston Southern University\, 9200 University Blvd.\, Charleston\, SC\, 29406\, United States
CATEGORIES:Clinics,Region Band
END:VEVENT
BEGIN:VEVENT
DTSTART;VALUE=DATE:20180223
DTEND;VALUE=DATE:20180225
DTSTAMP:20260423T041010
CREATED:20170516T150356Z
LAST-MODIFIED:20170516T150356Z
UID:10858-1519344000-1519516799@www.bandlink.org
SUMMARY:Region 5 Band Clinic
DESCRIPTION:
URL:https://www.bandlink.org/event/region-5-band-clinic-2/
LOCATION:Cane Bay High School\, 1624 State Rd\, Summerville\, SC\, 29483\, United States
CATEGORIES:Clinics,Region Band
END:VEVENT
END:VCALENDAR