BEGIN:VCALENDAR
VERSION:2.0
PRODID:-//South Carolina Band Directors Association - ECPv6.15.20//NONSGML v1.0//EN
CALSCALE:GREGORIAN
METHOD:PUBLISH
X-WR-CALNAME:South Carolina Band Directors Association
X-ORIGINAL-URL:https://www.bandlink.org
X-WR-CALDESC:Events for South Carolina Band Directors Association
REFRESH-INTERVAL;VALUE=DURATION:PT1H
X-Robots-Tag:noindex
X-PUBLISHED-TTL:PT1H
BEGIN:VTIMEZONE
TZID:America/New_York
BEGIN:DAYLIGHT
TZOFFSETFROM:-0500
TZOFFSETTO:-0400
TZNAME:EDT
DTSTART:20170312T070000
END:DAYLIGHT
BEGIN:STANDARD
TZOFFSETFROM:-0400
TZOFFSETTO:-0500
TZNAME:EST
DTSTART:20171105T060000
END:STANDARD
BEGIN:DAYLIGHT
TZOFFSETFROM:-0500
TZOFFSETTO:-0400
TZNAME:EDT
DTSTART:20180311T070000
END:DAYLIGHT
BEGIN:STANDARD
TZOFFSETFROM:-0400
TZOFFSETTO:-0500
TZNAME:EST
DTSTART:20181104T060000
END:STANDARD
BEGIN:DAYLIGHT
TZOFFSETFROM:-0500
TZOFFSETTO:-0400
TZNAME:EDT
DTSTART:20190310T070000
END:DAYLIGHT
BEGIN:STANDARD
TZOFFSETFROM:-0400
TZOFFSETTO:-0500
TZNAME:EST
DTSTART:20191103T060000
END:STANDARD
END:VTIMEZONE
BEGIN:VEVENT
DTSTART;VALUE=DATE:20180112
DTEND;VALUE=DATE:20180113
DTSTAMP:20260423T054520
CREATED:20170515T121040Z
LAST-MODIFIED:20170515T121040Z
UID:10742-1515715200-1515801599@www.bandlink.org
SUMMARY:Deadline: JPA\, CPA\, & Supplemental List
DESCRIPTION:Registrations for \n\nJazz Performance Assessment\nConcert Performance Assessment (Junior & Senior Levels)\nSupplemental List (CPA)\n\nmust be submitted online and associated paperwork postmarked by this date. Please contact the event chairman and see the SCBDA Handbook if you have any questions or concerns.
URL:https://www.bandlink.org/event/deadline-jpa-cpa-supplemental-list/
CATEGORIES:Concert Festival,Jazz,Supplemental List
END:VEVENT
BEGIN:VEVENT
DTSTART;VALUE=DATE:20180120
DTEND;VALUE=DATE:20180121
DTSTAMP:20260423T054520
CREATED:20170516T144719Z
LAST-MODIFIED:20170516T144719Z
UID:10835-1516406400-1516492799@www.bandlink.org
SUMMARY:Region 1 Auditions
DESCRIPTION:Inclement Weather Date is January 27\, 2018.
URL:https://www.bandlink.org/event/region-1-auditions-2/
LOCATION:Greer High School\, 3000 E. Gap Creek Rd.\, Greer\, SC\, 29651\, United States
CATEGORIES:All-State Band,Auditions,Region Band
END:VEVENT
BEGIN:VEVENT
DTSTART;VALUE=DATE:20180120
DTEND;VALUE=DATE:20180121
DTSTAMP:20260423T054520
CREATED:20170516T144920Z
LAST-MODIFIED:20171109T211107Z
UID:10837-1516406400-1516492799@www.bandlink.org
SUMMARY:Region 2 Auditions
DESCRIPTION:Inclement Weather Date is January 27\, 2018.
URL:https://www.bandlink.org/event/region-2-auditions-2/
LOCATION:Laurens District 55 High School\, 5058 HWY 76 WEST\, Laurens\, SC\, 29360\, United States
CATEGORIES:All-State Band,Auditions,Region Band
END:VEVENT
BEGIN:VEVENT
DTSTART;VALUE=DATE:20180120
DTEND;VALUE=DATE:20180121
DTSTAMP:20260423T054520
CREATED:20170516T145006Z
LAST-MODIFIED:20170516T145037Z
UID:10839-1516406400-1516492799@www.bandlink.org
SUMMARY:Region 3 Auditions
DESCRIPTION:Inclement Weather Date is January 27\, 2018.
URL:https://www.bandlink.org/event/region-3-auditions-2/
LOCATION:Blythewood High School\, 10901 Wilson Blvd\, Blythewood\, SC\, 29016\, United States
CATEGORIES:All-State Band,Auditions,Region Band
END:VEVENT
BEGIN:VEVENT
DTSTART;VALUE=DATE:20180120
DTEND;VALUE=DATE:20180121
DTSTAMP:20260423T054521
CREATED:20170516T145121Z
LAST-MODIFIED:20170516T145121Z
UID:10841-1516406400-1516492799@www.bandlink.org
SUMMARY:Region 4 Auditions
DESCRIPTION:Inclement Weather Date is January 27\, 2018.
URL:https://www.bandlink.org/event/region-4-auditions-2/
LOCATION:Summerville High School\, 1101 Boonehill Rd.\, Summerville\, SC\, 29483\, United States
CATEGORIES:All-State Band,Auditions,Region Band
END:VEVENT
BEGIN:VEVENT
DTSTART;VALUE=DATE:20180120
DTEND;VALUE=DATE:20180121
DTSTAMP:20260423T054521
CREATED:20170516T145207Z
LAST-MODIFIED:20170516T150634Z
UID:10843-1516406400-1516492799@www.bandlink.org
SUMMARY:Region 5 Auditions
DESCRIPTION:Inclement Weather Date is January 27\, 2018.
URL:https://www.bandlink.org/event/region-5-auditions-2/
LOCATION:West Florence High School\, 221 N Beltline Dr.\, Florence\, SC\, 29501\, United States
CATEGORIES:All-State Band,Auditions,Region Band
END:VEVENT
BEGIN:VEVENT
DTSTART;VALUE=DATE:20180127
DTEND;VALUE=DATE:20180128
DTSTAMP:20260423T054521
CREATED:20170516T145432Z
LAST-MODIFIED:20170516T145432Z
UID:10845-1517011200-1517097599@www.bandlink.org
SUMMARY:All-State Concert & Jazz Band Auditions
DESCRIPTION:Inclement Weather Date is February 3\, 2018.
URL:https://www.bandlink.org/event/all-state-concert-jazz-band-auditions/
LOCATION:Lexington High School\, 2463 Augusta Highway\, Lexington\, SC\, 29072\, United States
CATEGORIES:All-State Band,Auditions,Jazz
END:VEVENT
END:VCALENDAR