BEGIN:VCALENDAR
VERSION:2.0
PRODID:-//South Carolina Band Directors Association - ECPv6.15.20//NONSGML v1.0//EN
CALSCALE:GREGORIAN
METHOD:PUBLISH
X-WR-CALNAME:South Carolina Band Directors Association
X-ORIGINAL-URL:https://www.bandlink.org
X-WR-CALDESC:Events for South Carolina Band Directors Association
REFRESH-INTERVAL;VALUE=DURATION:PT1H
X-Robots-Tag:noindex
X-PUBLISHED-TTL:PT1H
BEGIN:VTIMEZONE
TZID:America/New_York
BEGIN:DAYLIGHT
TZOFFSETFROM:-0500
TZOFFSETTO:-0400
TZNAME:EDT
DTSTART:20160313T070000
END:DAYLIGHT
BEGIN:STANDARD
TZOFFSETFROM:-0400
TZOFFSETTO:-0500
TZNAME:EST
DTSTART:20161106T060000
END:STANDARD
BEGIN:DAYLIGHT
TZOFFSETFROM:-0500
TZOFFSETTO:-0400
TZNAME:EDT
DTSTART:20170312T070000
END:DAYLIGHT
BEGIN:STANDARD
TZOFFSETFROM:-0400
TZOFFSETTO:-0500
TZNAME:EST
DTSTART:20171105T060000
END:STANDARD
BEGIN:DAYLIGHT
TZOFFSETFROM:-0500
TZOFFSETTO:-0400
TZNAME:EDT
DTSTART:20180311T070000
END:DAYLIGHT
BEGIN:STANDARD
TZOFFSETFROM:-0400
TZOFFSETTO:-0500
TZNAME:EST
DTSTART:20181104T060000
END:STANDARD
END:VTIMEZONE
BEGIN:VEVENT
DTSTART;VALUE=DATE:20171104
DTEND;VALUE=DATE:20171105
DTSTAMP:20260423T083613
CREATED:20170516T025759Z
LAST-MODIFIED:20170516T025759Z
UID:10805-1509753600-1509839999@www.bandlink.org
SUMMARY:5A Marching Band Championships
DESCRIPTION:
URL:https://www.bandlink.org/event/5a-marching-band-championships/
LOCATION:Irmo High School\, 6671 St. Andrews Rd.\, Columbia\, SC\, 29212\, United States
CATEGORIES:Marching Band
END:VEVENT
BEGIN:VEVENT
DTSTART;VALUE=DATE:20171110
DTEND;VALUE=DATE:20171111
DTSTAMP:20260423T083613
CREATED:20170515T120256Z
LAST-MODIFIED:20170515T120256Z
UID:10736-1510272000-1510358399@www.bandlink.org
SUMMARY:Deadline: Registrations for All-State/Region\, All-State Jazz\, & Master Recital
DESCRIPTION:Registrations for: \n\nAll-State/Region Band Auditions\nAll-State Jazz Ensemble Auditions\nMaster Recital Auditions\n\nmust be submitted online and associated paperwork postmarked by this date. Please contact the event chairman and see the SCBDA Handbook if you have any questions or concerns.
URL:https://www.bandlink.org/event/deadline-registrations-for-all-stateregion-all-state-jazz-master-recital/
CATEGORIES:All-State Band,Auditions,Jazz,Region Band,Registration Deadlines,Solo & Ensemble
END:VEVENT
END:VCALENDAR