BEGIN:VCALENDAR
VERSION:2.0
PRODID:-//South Carolina Band Directors Association - ECPv6.15.20//NONSGML v1.0//EN
CALSCALE:GREGORIAN
METHOD:PUBLISH
X-ORIGINAL-URL:https://www.bandlink.org
X-WR-CALDESC:Events for South Carolina Band Directors Association
REFRESH-INTERVAL;VALUE=DURATION:PT1H
X-Robots-Tag:noindex
X-PUBLISHED-TTL:PT1H
BEGIN:VTIMEZONE
TZID:America/New_York
BEGIN:DAYLIGHT
TZOFFSETFROM:-0500
TZOFFSETTO:-0400
TZNAME:EDT
DTSTART:20160313T070000
END:DAYLIGHT
BEGIN:STANDARD
TZOFFSETFROM:-0400
TZOFFSETTO:-0500
TZNAME:EST
DTSTART:20161106T060000
END:STANDARD
BEGIN:DAYLIGHT
TZOFFSETFROM:-0500
TZOFFSETTO:-0400
TZNAME:EDT
DTSTART:20170312T070000
END:DAYLIGHT
BEGIN:STANDARD
TZOFFSETFROM:-0400
TZOFFSETTO:-0500
TZNAME:EST
DTSTART:20171105T060000
END:STANDARD
BEGIN:DAYLIGHT
TZOFFSETFROM:-0500
TZOFFSETTO:-0400
TZNAME:EDT
DTSTART:20180311T070000
END:DAYLIGHT
BEGIN:STANDARD
TZOFFSETFROM:-0400
TZOFFSETTO:-0500
TZNAME:EST
DTSTART:20181104T060000
END:STANDARD
END:VTIMEZONE
BEGIN:VEVENT
DTSTART;VALUE=DATE:20171021
DTEND;VALUE=DATE:20171022
DTSTAMP:20260423T103825
CREATED:20170516T024648Z
LAST-MODIFIED:20170516T024658Z
UID:10782-1508544000-1508630399@www.bandlink.org
SUMMARY:Lower State 1A/3A Marching Championships
DESCRIPTION:
URL:https://www.bandlink.org/event/lower-state-1a3a/
LOCATION:Chapin High School\, 300 Columbia Ave\, Chapin\, SC\, 29036\, United States
CATEGORIES:Marching Band
END:VEVENT
BEGIN:VEVENT
DTSTART;VALUE=DATE:20171021
DTEND;VALUE=DATE:20171022
DTSTAMP:20260423T103825
CREATED:20170516T024927Z
LAST-MODIFIED:20170516T025042Z
UID:10787-1508544000-1508630399@www.bandlink.org
SUMMARY:Lower State 2A/4A Marching Championships
DESCRIPTION:
URL:https://www.bandlink.org/event/lower-state-2a4a-championships/
LOCATION:White Knoll High School\, 5643 Platt Springs Rd\, Lexington\, SC\, 29073\, United States
CATEGORIES:Marching Band
END:VEVENT
BEGIN:VEVENT
DTSTART;VALUE=DATE:20171021
DTEND;VALUE=DATE:20171022
DTSTAMP:20260423T103825
CREATED:20170516T025137Z
LAST-MODIFIED:20170516T025435Z
UID:10792-1508544000-1508630399@www.bandlink.org
SUMMARY:Upper State 1A/3A Marching Championships
DESCRIPTION:
URL:https://www.bandlink.org/event/upper-state-1a3a-marching-championships/
LOCATION:Gaffney High School\, 149 Twin Lake Rd.\, Gaffney\, SC\, 29341\, United States
CATEGORIES:Marching Band
END:VEVENT
BEGIN:VEVENT
DTSTART;VALUE=DATE:20171021
DTEND;VALUE=DATE:20171022
DTSTAMP:20260423T103825
CREATED:20170516T025225Z
LAST-MODIFIED:20170516T025414Z
UID:10795-1508544000-1508630399@www.bandlink.org
SUMMARY:Upper State 2A/4A Marching Championships
DESCRIPTION:
URL:https://www.bandlink.org/event/upper-state-2a4a/
LOCATION:Boiling Springs High School\, 2251 Old Furnace Rd.\, Boiling Springs\, SC\, 29316\, United States
CATEGORIES:Marching Band
END:VEVENT
BEGIN:VEVENT
DTSTART;VALUE=DATE:20171028
DTEND;VALUE=DATE:20171029
DTSTAMP:20260423T103825
CREATED:20170516T025559Z
LAST-MODIFIED:20170516T025559Z
UID:10799-1509148800-1509235199@www.bandlink.org
SUMMARY:4A/2A State Marching Championships
DESCRIPTION:
URL:https://www.bandlink.org/event/4a2a-state-marching-championships/
LOCATION:Spring Valley High School\, 120 Sparkleberry Ln.\, Columbia\, SC\, 29229\, United States
CATEGORIES:Marching Band
END:VEVENT
BEGIN:VEVENT
DTSTART;VALUE=DATE:20171028
DTEND;VALUE=DATE:20171029
DTSTAMP:20260423T103825
CREATED:20170516T025647Z
LAST-MODIFIED:20170516T025647Z
UID:10802-1509148800-1509235199@www.bandlink.org
SUMMARY:3A/1A State Marching Championships
DESCRIPTION:
URL:https://www.bandlink.org/event/3a1a-state-marching-championships/
LOCATION:Batesburg-Leesville HS\, 600 Summerland Ave.\, Batesburg\, SC\, 29006\, United States
CATEGORIES:Marching Band
END:VEVENT
END:VCALENDAR