BEGIN:VCALENDAR
VERSION:2.0
PRODID:-//South Carolina Band Directors Association - ECPv6.15.20//NONSGML v1.0//EN
CALSCALE:GREGORIAN
METHOD:PUBLISH
X-WR-CALNAME:South Carolina Band Directors Association
X-ORIGINAL-URL:https://www.bandlink.org
X-WR-CALDESC:Events for South Carolina Band Directors Association
REFRESH-INTERVAL;VALUE=DURATION:PT1H
X-Robots-Tag:noindex
X-PUBLISHED-TTL:PT1H
BEGIN:VTIMEZONE
TZID:America/New_York
BEGIN:DAYLIGHT
TZOFFSETFROM:-0500
TZOFFSETTO:-0400
TZNAME:EDT
DTSTART:20160313T070000
END:DAYLIGHT
BEGIN:STANDARD
TZOFFSETFROM:-0400
TZOFFSETTO:-0500
TZNAME:EST
DTSTART:20161106T060000
END:STANDARD
BEGIN:DAYLIGHT
TZOFFSETFROM:-0500
TZOFFSETTO:-0400
TZNAME:EDT
DTSTART:20170312T070000
END:DAYLIGHT
BEGIN:STANDARD
TZOFFSETFROM:-0400
TZOFFSETTO:-0500
TZNAME:EST
DTSTART:20171105T060000
END:STANDARD
BEGIN:DAYLIGHT
TZOFFSETFROM:-0500
TZOFFSETTO:-0400
TZNAME:EDT
DTSTART:20180311T070000
END:DAYLIGHT
BEGIN:STANDARD
TZOFFSETFROM:-0400
TZOFFSETTO:-0500
TZNAME:EST
DTSTART:20181104T060000
END:STANDARD
END:VTIMEZONE
BEGIN:VEVENT
DTSTART;VALUE=DATE:20170506
DTEND;VALUE=DATE:20170507
DTSTAMP:20260423T203610
CREATED:20160530T145030Z
LAST-MODIFIED:20160530T145030Z
UID:6920-1494028800-1494115199@www.bandlink.org
SUMMARY:State Concert Festival
DESCRIPTION:
URL:https://www.bandlink.org/event/state-concert-festival/
LOCATION:Irmo High School\, 6671 St. Andrews Rd.\, Columbia\, SC\, 29212\, United States
CATEGORIES:Concert Festival
END:VEVENT
BEGIN:VEVENT
DTSTART;TZID=America/New_York:20170513T130000
DTEND;TZID=America/New_York:20170513T153000
DTSTAMP:20260423T203610
CREATED:20160530T145302Z
LAST-MODIFIED:20170418T122643Z
UID:6921-1494680400-1494689400@www.bandlink.org
SUMMARY:SCBDA Executive Board Planning Meeting
DESCRIPTION:
URL:https://www.bandlink.org/event/scbda-executive-board-planning-meeting/
LOCATION:Hyatt Place Columbia\, 819 Gervais St.\, Columbia\, SC\, United States
CATEGORIES:Director Meetings
END:VEVENT
END:VCALENDAR