BEGIN:VCALENDAR
VERSION:2.0
PRODID:-//South Carolina Band Directors Association - ECPv6.15.20//NONSGML v1.0//EN
CALSCALE:GREGORIAN
METHOD:PUBLISH
X-WR-CALNAME:South Carolina Band Directors Association
X-ORIGINAL-URL:https://www.bandlink.org
X-WR-CALDESC:Events for South Carolina Band Directors Association
REFRESH-INTERVAL;VALUE=DURATION:PT1H
X-Robots-Tag:noindex
X-PUBLISHED-TTL:PT1H
BEGIN:VTIMEZONE
TZID:America/New_York
BEGIN:DAYLIGHT
TZOFFSETFROM:-0500
TZOFFSETTO:-0400
TZNAME:EDT
DTSTART:20160313T070000
END:DAYLIGHT
BEGIN:STANDARD
TZOFFSETFROM:-0400
TZOFFSETTO:-0500
TZNAME:EST
DTSTART:20161106T060000
END:STANDARD
BEGIN:DAYLIGHT
TZOFFSETFROM:-0500
TZOFFSETTO:-0400
TZNAME:EDT
DTSTART:20170312T070000
END:DAYLIGHT
BEGIN:STANDARD
TZOFFSETFROM:-0400
TZOFFSETTO:-0500
TZNAME:EST
DTSTART:20171105T060000
END:STANDARD
BEGIN:DAYLIGHT
TZOFFSETFROM:-0500
TZOFFSETTO:-0400
TZNAME:EDT
DTSTART:20180311T070000
END:DAYLIGHT
BEGIN:STANDARD
TZOFFSETFROM:-0400
TZOFFSETTO:-0500
TZNAME:EST
DTSTART:20181104T060000
END:STANDARD
END:VTIMEZONE
BEGIN:VEVENT
DTSTART;VALUE=DATE:20170421
DTEND;VALUE=DATE:20170423
DTSTAMP:20260423T221357
CREATED:20160702T173453Z
LAST-MODIFIED:20160702T174438Z
UID:9170-1492732800-1492905599@www.bandlink.org
SUMMARY:Solo & Ensemble - Aiken
DESCRIPTION:
URL:https://www.bandlink.org/event/solo-ensemble-aiken/
LOCATION:Aiken High School\, 229 Rutland Dr. NW\, Aiken\, SC\, 29801\, United States
CATEGORIES:Solo & Ensemble
END:VEVENT
BEGIN:VEVENT
DTSTART;VALUE=DATE:20170421
DTEND;VALUE=DATE:20170423
DTSTAMP:20260423T221357
CREATED:20160702T173702Z
LAST-MODIFIED:20160702T173702Z
UID:9173-1492732800-1492905599@www.bandlink.org
SUMMARY:Solo & Ensemble - Anderson
DESCRIPTION:
URL:https://www.bandlink.org/event/solo-ensemble-anderson/
LOCATION:Southwood Academy of the Arts\, 1110 Southwood St.\, Anderson\, SC\, 29624\, United States
CATEGORIES:Solo & Ensemble
END:VEVENT
BEGIN:VEVENT
DTSTART;VALUE=DATE:20170421
DTEND;VALUE=DATE:20170423
DTSTAMP:20260423T221357
CREATED:20160702T174655Z
LAST-MODIFIED:20160702T174655Z
UID:9180-1492732800-1492905599@www.bandlink.org
SUMMARY:Solo & Ensemble - Rock Hill
DESCRIPTION:
URL:https://www.bandlink.org/event/solo-ensemble-rock-hill/
LOCATION:Sullivan Middle School\, 1825 Eden Terrace\, Rock Hill\, SC\, 29730\, United States
CATEGORIES:Solo & Ensemble
END:VEVENT
BEGIN:VEVENT
DTSTART;VALUE=DATE:20170428
DTEND;VALUE=DATE:20170430
DTSTAMP:20260423T221357
CREATED:20160702T175011Z
LAST-MODIFIED:20160702T175011Z
UID:9184-1493337600-1493510399@www.bandlink.org
SUMMARY:Solo & Ensemble - Charleston
DESCRIPTION:
URL:https://www.bandlink.org/event/solo-ensemble-charleston/
LOCATION:Goose Creek High School\, 1137 Redband Rd.\, Goose Creek\, SC\, 29445\, United States
CATEGORIES:Solo & Ensemble
END:VEVENT
BEGIN:VEVENT
DTSTART;VALUE=DATE:20170428
DTEND;VALUE=DATE:20170430
DTSTAMP:20260423T221357
CREATED:20160702T175211Z
LAST-MODIFIED:20160702T175211Z
UID:9188-1493337600-1493510399@www.bandlink.org
SUMMARY:Solo & Ensemble - Columbia
DESCRIPTION:
URL:https://www.bandlink.org/event/solo-ensemble-columbia/
LOCATION:Dutch Fork High School\, 1400 Old Tamah Rd.\, Irmo\, SC\, 29063\, United States
CATEGORIES:Solo & Ensemble
END:VEVENT
BEGIN:VEVENT
DTSTART;VALUE=DATE:20170428
DTEND;VALUE=DATE:20170430
DTSTAMP:20260423T221357
CREATED:20160702T175415Z
LAST-MODIFIED:20160702T175415Z
UID:9192-1493337600-1493510399@www.bandlink.org
SUMMARY:Solo & Ensemble - Greenville
DESCRIPTION:
URL:https://www.bandlink.org/event/solo-ensemble-greenville/
LOCATION:Dorman Freshman Campus\, 1225 Cavalier Way\, Roebuck\, SC\, 29376\, United States
CATEGORIES:Solo & Ensemble
END:VEVENT
END:VCALENDAR