BEGIN:VCALENDAR
VERSION:2.0
PRODID:-//South Carolina Band Directors Association - ECPv6.15.20//NONSGML v1.0//EN
CALSCALE:GREGORIAN
METHOD:PUBLISH
X-ORIGINAL-URL:https://www.bandlink.org
X-WR-CALDESC:Events for South Carolina Band Directors Association
REFRESH-INTERVAL;VALUE=DURATION:PT1H
X-Robots-Tag:noindex
X-PUBLISHED-TTL:PT1H
BEGIN:VTIMEZONE
TZID:America/New_York
BEGIN:DAYLIGHT
TZOFFSETFROM:-0500
TZOFFSETTO:-0400
TZNAME:EDT
DTSTART:20150308T070000
END:DAYLIGHT
BEGIN:STANDARD
TZOFFSETFROM:-0400
TZOFFSETTO:-0500
TZNAME:EST
DTSTART:20151101T060000
END:STANDARD
BEGIN:DAYLIGHT
TZOFFSETFROM:-0500
TZOFFSETTO:-0400
TZNAME:EDT
DTSTART:20160313T070000
END:DAYLIGHT
BEGIN:STANDARD
TZOFFSETFROM:-0400
TZOFFSETTO:-0500
TZNAME:EST
DTSTART:20161106T060000
END:STANDARD
BEGIN:DAYLIGHT
TZOFFSETFROM:-0500
TZOFFSETTO:-0400
TZNAME:EDT
DTSTART:20170312T070000
END:DAYLIGHT
BEGIN:STANDARD
TZOFFSETFROM:-0400
TZOFFSETTO:-0500
TZNAME:EST
DTSTART:20171105T060000
END:STANDARD
END:VTIMEZONE
BEGIN:VEVENT
DTSTART;VALUE=DATE:20161104
DTEND;VALUE=DATE:20161105
DTSTAMP:20260424T054310
CREATED:20160530T130506Z
LAST-MODIFIED:20160530T130506Z
UID:6892-1478217600-1478303999@www.bandlink.org
SUMMARY:Deadline: All-State/Region Band/Jazz/Master Recital
DESCRIPTION:Registration Deadlines for: \n\nAll-State / Region Band Auditions\nAll-State Jazz Ensemble Auditions\nMaster Recital Applications\n\n 
URL:https://www.bandlink.org/event/deadline-all-stateregion-bandjazzmaster-recital/
CATEGORIES:Auditions,Jazz,Registration Deadlines
END:VEVENT
BEGIN:VEVENT
DTSTART;VALUE=DATE:20161105
DTEND;VALUE=DATE:20161106
DTSTAMP:20260424T054310
CREATED:20160530T130109Z
LAST-MODIFIED:20160912T030719Z
UID:6891-1478304000-1478390399@www.bandlink.org
SUMMARY:5A State Marching Band Championships
DESCRIPTION:For more information about this event (schedules\, results\, etc.)\, please visit the SCBDA Marching Contest page by clicking here.
URL:https://www.bandlink.org/event/5a-state-marching-band-championships/
LOCATION:Irmo High School\, 6671 St. Andrews Rd.\, Columbia\, SC\, 29212\, United States
CATEGORIES:Marching Band
END:VEVENT
END:VCALENDAR