BEGIN:VCALENDAR
VERSION:2.0
PRODID:-//South Carolina Band Directors Association - ECPv6.15.20//NONSGML v1.0//EN
CALSCALE:GREGORIAN
METHOD:PUBLISH
X-ORIGINAL-URL:https://www.bandlink.org
X-WR-CALDESC:Events for South Carolina Band Directors Association
REFRESH-INTERVAL;VALUE=DURATION:PT1H
X-Robots-Tag:noindex
X-PUBLISHED-TTL:PT1H
BEGIN:VTIMEZONE
TZID:America/New_York
BEGIN:DAYLIGHT
TZOFFSETFROM:-0500
TZOFFSETTO:-0400
TZNAME:EDT
DTSTART:20150308T070000
END:DAYLIGHT
BEGIN:STANDARD
TZOFFSETFROM:-0400
TZOFFSETTO:-0500
TZNAME:EST
DTSTART:20151101T060000
END:STANDARD
BEGIN:DAYLIGHT
TZOFFSETFROM:-0500
TZOFFSETTO:-0400
TZNAME:EDT
DTSTART:20160313T070000
END:DAYLIGHT
BEGIN:STANDARD
TZOFFSETFROM:-0400
TZOFFSETTO:-0500
TZNAME:EST
DTSTART:20161106T060000
END:STANDARD
BEGIN:DAYLIGHT
TZOFFSETFROM:-0500
TZOFFSETTO:-0400
TZNAME:EDT
DTSTART:20170312T070000
END:DAYLIGHT
BEGIN:STANDARD
TZOFFSETFROM:-0400
TZOFFSETTO:-0500
TZNAME:EST
DTSTART:20171105T060000
END:STANDARD
END:VTIMEZONE
BEGIN:VEVENT
DTSTART;VALUE=DATE:20161022
DTEND;VALUE=DATE:20161023
DTSTAMP:20260424T083358
CREATED:20160530T124007Z
LAST-MODIFIED:20160912T030408Z
UID:6877-1477094400-1477180799@www.bandlink.org
SUMMARY:Upper-State 2A/4A State Marching Band Championships
DESCRIPTION:For more information about this event (schedules\, results\, etc.)\, please visit the SCBDA Marching Contest page by clicking here.
URL:https://www.bandlink.org/event/upper-state-2a4a-state-marching-band-championships/
LOCATION:Boiling Springs High School\, 2251 Old Furnace Rd.\, Boiling Springs\, SC\, 29316\, United States
CATEGORIES:Marching Band
END:VEVENT
BEGIN:VEVENT
DTSTART;VALUE=DATE:20161022
DTEND;VALUE=DATE:20161023
DTSTAMP:20260424T083358
CREATED:20160530T124242Z
LAST-MODIFIED:20160912T030442Z
UID:6879-1477094400-1477180799@www.bandlink.org
SUMMARY:Upper-State 1A/3A State Marching Band Championships
DESCRIPTION:For more information about this event (schedules\, results\, etc.)\, please visit the SCBDA Marching Contest page by clicking here.
URL:https://www.bandlink.org/event/upper-state-1a3a-state-marching-band-championships/
LOCATION:Gaffney High School\, 149 Twin Lake Rd.\, Gaffney\, SC\, 29341\, United States
CATEGORIES:Marching Band
END:VEVENT
BEGIN:VEVENT
DTSTART;VALUE=DATE:20161022
DTEND;VALUE=DATE:20161023
DTSTAMP:20260424T083358
CREATED:20160530T124645Z
LAST-MODIFIED:20160912T030509Z
UID:6881-1477094400-1477180799@www.bandlink.org
SUMMARY:Lower-State 2A/4A State Marching Band Championships
DESCRIPTION:For more information about this event (schedules\, results\, etc.)\, please visit the SCBDA Marching Contest page by clicking here.
URL:https://www.bandlink.org/event/lower-state-1a3a-state-marching-band-championships/
LOCATION:West Ashley High School\, 4060 W. Wildcat Blvd.\, Charleston\, SC\, 29414\, United States
CATEGORIES:Marching Band
END:VEVENT
BEGIN:VEVENT
DTSTART;VALUE=DATE:20161022
DTEND;VALUE=DATE:20161023
DTSTAMP:20260424T083358
CREATED:20160530T125140Z
LAST-MODIFIED:20160912T030548Z
UID:6885-1477094400-1477180799@www.bandlink.org
SUMMARY:Lower State 1A/3A State Marching Championships
DESCRIPTION:For more information about this event (schedules\, results\, etc.)\, please visit the SCBDA Marching Contest page by clicking here.
URL:https://www.bandlink.org/event/lower-state-1a3a-state-marching-championships/
LOCATION:Hartsville High School\, 701 Lewellyn Ave\, Hartsville\, SC\, 29550\, United States
CATEGORIES:Marching Band
END:VEVENT
BEGIN:VEVENT
DTSTART;VALUE=DATE:20161029
DTEND;VALUE=DATE:20161030
DTSTAMP:20260424T083358
CREATED:20160530T125452Z
LAST-MODIFIED:20161029T144043Z
UID:6886-1477699200-1477785599@www.bandlink.org
SUMMARY:1A/3A State Marching Band Championships
DESCRIPTION:For more information about this event (schedules\, results\, etc.)\, please visit the SCBDA Marching Contest page by clicking here. \nA performance schedule can be found by clicking here.
URL:https://www.bandlink.org/event/1a3a-state-marching-band-championships/
LOCATION:Batesburg-Leesville HS\, 600 Summerland Ave.\, Batesburg\, SC\, 29006\, United States
CATEGORIES:Marching Band
END:VEVENT
BEGIN:VEVENT
DTSTART;VALUE=DATE:20161029
DTEND;VALUE=DATE:20161030
DTSTAMP:20260424T083358
CREATED:20160530T125631Z
LAST-MODIFIED:20161029T144125Z
UID:6888-1477699200-1477785599@www.bandlink.org
SUMMARY:2A/4A State Marching Band Championships
DESCRIPTION:For more information about this event (schedules\, results\, etc.)\, please visit the SCBDA Marching Contest page by clicking here. \nA performance schedule can be found by clicking here.
URL:https://www.bandlink.org/event/2a4a-state-marching-band-championships/
LOCATION:Spring Valley High School\, 120 Sparkleberry Ln.\, Columbia\, SC\, 29229\, United States
CATEGORIES:Marching Band
END:VEVENT
END:VCALENDAR