BEGIN:VCALENDAR
VERSION:2.0
PRODID:-//South Carolina Band Directors Association - ECPv6.15.20//NONSGML v1.0//EN
CALSCALE:GREGORIAN
METHOD:PUBLISH
X-ORIGINAL-URL:https://www.bandlink.org
X-WR-CALDESC:Events for South Carolina Band Directors Association
REFRESH-INTERVAL;VALUE=DURATION:PT1H
X-Robots-Tag:noindex
X-PUBLISHED-TTL:PT1H
BEGIN:VTIMEZONE
TZID:America/New_York
BEGIN:DAYLIGHT
TZOFFSETFROM:-0500
TZOFFSETTO:-0400
TZNAME:EDT
DTSTART:20180311T070000
END:DAYLIGHT
BEGIN:STANDARD
TZOFFSETFROM:-0400
TZOFFSETTO:-0500
TZNAME:EST
DTSTART:20181104T060000
END:STANDARD
BEGIN:DAYLIGHT
TZOFFSETFROM:-0500
TZOFFSETTO:-0400
TZNAME:EDT
DTSTART:20190310T070000
END:DAYLIGHT
BEGIN:STANDARD
TZOFFSETFROM:-0400
TZOFFSETTO:-0500
TZNAME:EST
DTSTART:20191103T060000
END:STANDARD
BEGIN:DAYLIGHT
TZOFFSETFROM:-0500
TZOFFSETTO:-0400
TZNAME:EDT
DTSTART:20200308T070000
END:DAYLIGHT
BEGIN:STANDARD
TZOFFSETFROM:-0400
TZOFFSETTO:-0500
TZNAME:EST
DTSTART:20201101T060000
END:STANDARD
BEGIN:DAYLIGHT
TZOFFSETFROM:-0500
TZOFFSETTO:-0400
TZNAME:EDT
DTSTART:20210314T070000
END:DAYLIGHT
BEGIN:STANDARD
TZOFFSETFROM:-0400
TZOFFSETTO:-0500
TZNAME:EST
DTSTART:20211107T060000
END:STANDARD
END:VTIMEZONE
BEGIN:VEVENT
DTSTART;VALUE=DATE:20190315
DTEND;VALUE=DATE:20190318
DTSTAMP:20260422T185702
CREATED:20180419T182438Z
LAST-MODIFIED:20180419T182438Z
UID:12411-1552608000-1552867199@www.bandlink.org
SUMMARY:All-State Band Clinic
DESCRIPTION:
URL:https://www.bandlink.org/event/all-state-band-clinic-2/
LOCATION:Furman University\, 3300 Poinsett Highway\, Greenville\, SC\, 29613\, United States
CATEGORIES:All-State Band
END:VEVENT
BEGIN:VEVENT
DTSTART;VALUE=DATE:20190316
DTEND;VALUE=DATE:20190317
DTSTAMP:20260422T185702
CREATED:20180419T182513Z
LAST-MODIFIED:20180419T182513Z
UID:12413-1552694400-1552780799@www.bandlink.org
SUMMARY:General Meeting
DESCRIPTION:
URL:https://www.bandlink.org/event/general-meeting/
LOCATION:Furman University\, 3300 Poinsett Highway\, Greenville\, SC\, 29613\, United States
CATEGORIES:Director Meetings
END:VEVENT
BEGIN:VEVENT
DTSTART;VALUE=DATE:20190319
DTEND;VALUE=DATE:20190322
DTSTAMP:20260422T185702
CREATED:20180419T182617Z
LAST-MODIFIED:20180419T182617Z
UID:12415-1552953600-1553212799@www.bandlink.org
SUMMARY:Concert Performance Assessment
DESCRIPTION:4 sites
URL:https://www.bandlink.org/event/concert-performance-assessment/
CATEGORIES:Concert Festival
END:VEVENT
BEGIN:VEVENT
DTSTART;VALUE=DATE:20190326
DTEND;VALUE=DATE:20190329
DTSTAMP:20260422T185702
CREATED:20180419T182659Z
LAST-MODIFIED:20180419T182659Z
UID:12417-1553558400-1553817599@www.bandlink.org
SUMMARY:Concert Performance Assessment
DESCRIPTION:4 sites
URL:https://www.bandlink.org/event/concert-performance-assessment-2/
CATEGORIES:Concert Festival
END:VEVENT
BEGIN:VEVENT
DTSTART;VALUE=DATE:20190426
DTEND;VALUE=DATE:20190428
DTSTAMP:20260422T185702
CREATED:20180419T182758Z
LAST-MODIFIED:20181105T020327Z
UID:12419-1556236800-1556409599@www.bandlink.org
SUMMARY:Solo & Ensemble
DESCRIPTION:4 Sites: Aiken\, Anderson\, Columbia\, Rock Hill
URL:https://www.bandlink.org/event/solo-ensemble/
CATEGORIES:Solo & Ensemble
END:VEVENT
BEGIN:VEVENT
DTSTART;VALUE=DATE:20190503
DTEND;VALUE=DATE:20190505
DTSTAMP:20260422T185702
CREATED:20180419T182903Z
LAST-MODIFIED:20181105T020409Z
UID:12421-1556841600-1557014399@www.bandlink.org
SUMMARY:Solo & Ensemble
DESCRIPTION:3 Sites: Florence/Greenville/Charleston
URL:https://www.bandlink.org/event/solo-ensemble-2/
CATEGORIES:Solo & Ensemble
END:VEVENT
BEGIN:VEVENT
DTSTART;VALUE=DATE:20190511
DTEND;VALUE=DATE:20190512
DTSTAMP:20260422T185702
CREATED:20180419T182934Z
LAST-MODIFIED:20180419T182934Z
UID:12423-1557532800-1557619199@www.bandlink.org
SUMMARY:State Concert Festival
DESCRIPTION:
URL:https://www.bandlink.org/event/state-concert-festival-2/
LOCATION:Irmo High School\, 6671 St. Andrews Rd.\, Columbia\, SC\, 29212\, United States
CATEGORIES:Concert Festival
END:VEVENT
BEGIN:VEVENT
DTSTART;TZID=America/New_York:20190511T133000
DTEND;TZID=America/New_York:20190511T163000
DTSTAMP:20260422T185702
CREATED:20180419T183044Z
LAST-MODIFIED:20180419T183044Z
UID:12425-1557581400-1557592200@www.bandlink.org
SUMMARY:SCMEA Executive Board Planning Meeting
DESCRIPTION:
URL:https://www.bandlink.org/event/scmea-executive-board-planning-meeting/
CATEGORIES:Director Meetings
END:VEVENT
BEGIN:VEVENT
DTSTART;TZID=America/New_York:20190518T133000
DTEND;TZID=America/New_York:20190518T163000
DTSTAMP:20260422T185702
CREATED:20180419T183114Z
LAST-MODIFIED:20180419T183119Z
UID:12427-1558186200-1558197000@www.bandlink.org
SUMMARY:SCBDA Executive Board Meeting
DESCRIPTION:
URL:https://www.bandlink.org/event/scbda-executive-board-meeting/
CATEGORIES:Director Meetings
END:VEVENT
BEGIN:VEVENT
DTSTART;TZID=America/New_York:20190522T080000
DTEND;TZID=America/New_York:20190522T170000
DTSTAMP:20260422T185702
CREATED:20190522T151244Z
LAST-MODIFIED:20190522T151244Z
UID:13717-1558512000-1558544400@www.bandlink.org
SUMMARY:Nomination Deadline: Hall of Fame\, Distinguished Service\, & Program of Note
DESCRIPTION:
URL:https://www.bandlink.org/event/nomination-deadline-hall-of-fame-distinguished-service-program-of-note/
CATEGORIES:Awards,Registration Deadlines
END:VEVENT
BEGIN:VEVENT
DTSTART;VALUE=DATE:20190601
DTEND;VALUE=DATE:20190602
DTSTAMP:20260422T185702
CREATED:20180419T183202Z
LAST-MODIFIED:20180419T183202Z
UID:12429-1559347200-1559433599@www.bandlink.org
SUMMARY:Registration Deadline: SCMEA Performance Application
DESCRIPTION:
URL:https://www.bandlink.org/event/registration-deadline-scmea-performance-application/
CATEGORIES:Registration Deadlines,SCMEA Conference
END:VEVENT
BEGIN:VEVENT
DTSTART;VALUE=DATE:20190809
DTEND;VALUE=DATE:20190810
DTSTAMP:20260422T185702
CREATED:20190522T150312Z
LAST-MODIFIED:20190522T150656Z
UID:13703-1565308800-1565395199@www.bandlink.org
SUMMARY:Registration Deadline: Marching Band Festival/Championships
DESCRIPTION:
URL:https://www.bandlink.org/event/registration-deadline-marching-band-festival-championships/
CATEGORIES:Registration Deadlines
END:VEVENT
BEGIN:VEVENT
DTSTART;TZID=America/New_York:20190907T083000
DTEND;TZID=America/New_York:20190907T120000
DTSTAMP:20260422T185702
CREATED:20190522T150515Z
LAST-MODIFIED:20190831T191629Z
UID:13705-1567845000-1567857600@www.bandlink.org
SUMMARY:Fall Meeting
DESCRIPTION:In addition to committee meetings\, a brief general meeting\, a new director meeting\, and the marching band draw\, lunch will be provided! \nWe are super excited to announce that we will have several food trucks there so our members can enjoy some awesome food while building camaraderie and welcoming our new members!! Again\, this lunch will be covered by the SCBDA! Check out the schedule below. Food truck options and menus will be provided soon. \n\n\n\nExecutive Board\n8:30 AM\n\n\nGeneral Meeting\n10:00 AM\n\n\nEvent Committee Meetings\n10:45 AM\n\n\nNew Members Meeting\n11:00 AM\n\n\nMarching Band Draw\n11:30 AM
URL:https://www.bandlink.org/event/fall-meeting/
LOCATION:River Bluff High School\, 320 Corley Mill Rd.\, Lexington\, SC\, 29072\, United States
CATEGORIES:Director Meetings
END:VEVENT
BEGIN:VEVENT
DTSTART;VALUE=DATE:20191019
DTEND;VALUE=DATE:20191020
DTSTAMP:20260422T185702
CREATED:20190522T150631Z
LAST-MODIFIED:20190522T150631Z
UID:13707-1571443200-1571529599@www.bandlink.org
SUMMARY:Upper/Lower State Marching Band Championships 1A 2A 3A 4A
DESCRIPTION:4 sites
URL:https://www.bandlink.org/event/upper-lower-state-marching-band-championships-1a-2a-3a-4a/
CATEGORIES:Marching Band
END:VEVENT
BEGIN:VEVENT
DTSTART;VALUE=DATE:20191026
DTEND;VALUE=DATE:20191027
DTSTAMP:20260422T185702
CREATED:20190522T150815Z
LAST-MODIFIED:20190522T150815Z
UID:13709-1572048000-1572134399@www.bandlink.org
SUMMARY:State Marching Band Championships 1A 2A 3A 4A
DESCRIPTION:
URL:https://www.bandlink.org/event/state-marching-band-championships-1a-2a-3a-4a/
CATEGORIES:Marching Band
END:VEVENT
BEGIN:VEVENT
DTSTART;VALUE=DATE:20191030
DTEND;VALUE=DATE:20191031
DTSTAMP:20260422T185702
CREATED:20190522T150926Z
LAST-MODIFIED:20190522T151323Z
UID:13711-1572393600-1572479999@www.bandlink.org
SUMMARY:Nomination Deadline: SCMEA Awards
DESCRIPTION:
URL:https://www.bandlink.org/event/deadline-scmea-award-nominations/
CATEGORIES:Awards
END:VEVENT
BEGIN:VEVENT
DTSTART;VALUE=DATE:20191102
DTEND;VALUE=DATE:20191103
DTSTAMP:20260422T185702
CREATED:20190522T151026Z
LAST-MODIFIED:20190522T151026Z
UID:13713-1572652800-1572739199@www.bandlink.org
SUMMARY:5A State Marching Band Festival/Championship
DESCRIPTION:
URL:https://www.bandlink.org/event/5a-state-marching-band-festival-championship/
CATEGORIES:Marching Band
END:VEVENT
BEGIN:VEVENT
DTSTART;VALUE=DATE:20191108
DTEND;VALUE=DATE:20191109
DTSTAMP:20260422T185702
CREATED:20190522T151143Z
LAST-MODIFIED:20190522T151143Z
UID:13715-1573171200-1573257599@www.bandlink.org
SUMMARY:Registration Deadline: Region Band\, All-State Jazz\, & Master Recital
DESCRIPTION:
URL:https://www.bandlink.org/event/registration-deadline-region-band-all-state-jazz-master-recital/
CATEGORIES:Registration Deadlines
END:VEVENT
BEGIN:VEVENT
DTSTART;VALUE=DATE:20200110
DTEND;VALUE=DATE:20200111
DTSTAMP:20260422T185702
CREATED:20190522T151438Z
LAST-MODIFIED:20190522T151438Z
UID:13720-1578614400-1578700799@www.bandlink.org
SUMMARY:Registration Deadline: CPA\, JPA\, & CPA Supplemental List
DESCRIPTION:
URL:https://www.bandlink.org/event/registration-deadline-cpa-jpa-cpa-supplemental-list/
CATEGORIES:Registration Deadlines
END:VEVENT
BEGIN:VEVENT
DTSTART;VALUE=DATE:20200111
DTEND;VALUE=DATE:20200112
DTSTAMP:20260422T185702
CREATED:20190522T151534Z
LAST-MODIFIED:20190522T151534Z
UID:13722-1578700800-1578787199@www.bandlink.org
SUMMARY:Region Band Auditions
DESCRIPTION:6 sites
URL:https://www.bandlink.org/event/region-band-auditions-2/
CATEGORIES:Auditions,Region Band
END:VEVENT
BEGIN:VEVENT
DTSTART;VALUE=DATE:20200125
DTEND;VALUE=DATE:20200126
DTSTAMP:20260422T185702
CREATED:20190522T151707Z
LAST-MODIFIED:20190522T151707Z
UID:13724-1579910400-1579996799@www.bandlink.org
SUMMARY:All-State Concert & Jazz Band Auditions
DESCRIPTION:This is the inclement weather make-up date for Region Band auditions (6 sites).
URL:https://www.bandlink.org/event/all-state-concert-jazz-band-auditions-2/
LOCATION:Lexington High School\, 2463 Augusta Highway\, Lexington\, SC\, 29072\, United States
CATEGORIES:All-State Band,Auditions,Jazz
END:VEVENT
BEGIN:VEVENT
DTSTART;VALUE=DATE:20200206
DTEND;VALUE=DATE:20200210
DTSTAMP:20260422T185702
CREATED:20190522T151924Z
LAST-MODIFIED:20190522T151924Z
UID:13728-1580947200-1581292799@www.bandlink.org
SUMMARY:SCMEA Professional Development Conference
DESCRIPTION:
URL:https://www.bandlink.org/event/scmea-professional-development-conference-4/
LOCATION:Columbia Metropolitan Convention Center\, 1101 Lincoln St.\, Columbia\, SC\, 29201\, United States
CATEGORIES:SCMEA Conference
END:VEVENT
BEGIN:VEVENT
DTSTART;VALUE=DATE:20200207
DTEND;VALUE=DATE:20200208
DTSTAMP:20260422T185702
CREATED:20190522T152043Z
LAST-MODIFIED:20190522T152043Z
UID:13730-1581033600-1581119999@www.bandlink.org
SUMMARY:Registration Deadline: All-State Band Clinic
DESCRIPTION:
URL:https://www.bandlink.org/event/registration-deadline-all-state-band-clinic/
CATEGORIES:All-State Band,Clinics,Registration Deadlines
END:VEVENT
BEGIN:VEVENT
DTSTART;VALUE=DATE:20200208
DTEND;VALUE=DATE:20200209
DTSTAMP:20260422T185702
CREATED:20190522T152139Z
LAST-MODIFIED:20190522T152139Z
UID:13732-1581120000-1581206399@www.bandlink.org
SUMMARY:Annual Business Meeting
DESCRIPTION:
URL:https://www.bandlink.org/event/annual-business-meeting-3/
LOCATION:USC Alumni Center\, 900 Senate Street\, Columbia\, SC\, 29201\, United States
CATEGORIES:Director Meetings,SCMEA Conference
END:VEVENT
BEGIN:VEVENT
DTSTART;VALUE=DATE:20200221
DTEND;VALUE=DATE:20200223
DTSTAMP:20260422T185702
CREATED:20190522T152247Z
LAST-MODIFIED:20190522T152247Z
UID:13734-1582243200-1582415999@www.bandlink.org
SUMMARY:Region Band Clinics
DESCRIPTION:6 sites
URL:https://www.bandlink.org/event/region-band-clinics/
CATEGORIES:Clinics,Region Band
END:VEVENT
BEGIN:VEVENT
DTSTART;VALUE=DATE:20200227
DTEND;VALUE=DATE:20200301
DTSTAMP:20260422T185702
CREATED:20190522T152338Z
LAST-MODIFIED:20190522T152338Z
UID:13736-1582761600-1583020799@www.bandlink.org
SUMMARY:All-State Jazz Band Clinic
DESCRIPTION:
URL:https://www.bandlink.org/event/all-state-jazz-band-clinic-4/
LOCATION:Newberry College\, 2100 College St.\, Newberry\, SC\, 29108\, United States
CATEGORIES:All-State Band,Clinics,Jazz
END:VEVENT
BEGIN:VEVENT
DTSTART;VALUE=DATE:20200228
DTEND;VALUE=DATE:20200229
DTSTAMP:20260422T185702
CREATED:20190522T152834Z
LAST-MODIFIED:20200214T031411Z
UID:13738-1582848000-1582934399@www.bandlink.org
SUMMARY:Registration Deadlines: OPA\, CAA\, & Marching Event Host
DESCRIPTION:
URL:https://www.bandlink.org/event/registration-deadlines-se-opa-caa-marching-event-host/
CATEGORIES:Awards,Marching Band,Registration Deadlines
END:VEVENT
BEGIN:VEVENT
DTSTART;VALUE=DATE:20200229
DTEND;VALUE=DATE:20200301
DTSTAMP:20260422T185702
CREATED:20190522T155716Z
LAST-MODIFIED:20190522T155716Z
UID:13740-1582934400-1583020799@www.bandlink.org
SUMMARY:Jazz Band Performance Assessment
DESCRIPTION:
URL:https://www.bandlink.org/event/jazz-band-performance-assessment-4/
LOCATION:Newberry College\, 2100 College St.\, Newberry\, SC\, 29108\, United States
CATEGORIES:Jazz
END:VEVENT
BEGIN:VEVENT
DTSTART;VALUE=DATE:20200306
DTEND;VALUE=DATE:20200307
DTSTAMP:20260422T185702
CREATED:20200214T031456Z
LAST-MODIFIED:20200214T031456Z
UID:14595-1583452800-1583539199@www.bandlink.org
SUMMARY:Registration Deadline: Solo & Ensemble
DESCRIPTION:
URL:https://www.bandlink.org/event/registration-deadline-solo-ensemble/
CATEGORIES:Registration Deadlines,Solo & Ensemble
END:VEVENT
BEGIN:VEVENT
DTSTART;VALUE=DATE:20200615
DTEND;VALUE=DATE:20200616
DTSTAMP:20260422T185702
CREATED:20200516T123808Z
LAST-MODIFIED:20200516T123808Z
UID:14789-1592179200-1592265599@www.bandlink.org
SUMMARY:Deadline: SCMEA Performing Ensemble Application
DESCRIPTION:Applications to perform are due for Band Division Large Performing Ensembles at the 2020-2021 SCMEA Professional Development Conference.
URL:https://www.bandlink.org/event/deadline-scmea-performing-ensemble-application/
CATEGORIES:Registration Deadlines,SCMEA Conference
END:VEVENT
END:VCALENDAR