BEGIN:VCALENDAR
VERSION:2.0
PRODID:-//South Carolina Band Directors Association - ECPv6.15.20//NONSGML v1.0//EN
CALSCALE:GREGORIAN
METHOD:PUBLISH
X-ORIGINAL-URL:https://www.bandlink.org
X-WR-CALDESC:Events for South Carolina Band Directors Association
REFRESH-INTERVAL;VALUE=DURATION:PT1H
X-Robots-Tag:noindex
X-PUBLISHED-TTL:PT1H
BEGIN:VTIMEZONE
TZID:America/New_York
BEGIN:DAYLIGHT
TZOFFSETFROM:-0500
TZOFFSETTO:-0400
TZNAME:EDT
DTSTART:20170312T070000
END:DAYLIGHT
BEGIN:STANDARD
TZOFFSETFROM:-0400
TZOFFSETTO:-0500
TZNAME:EST
DTSTART:20171105T060000
END:STANDARD
BEGIN:DAYLIGHT
TZOFFSETFROM:-0500
TZOFFSETTO:-0400
TZNAME:EDT
DTSTART:20180311T070000
END:DAYLIGHT
BEGIN:STANDARD
TZOFFSETFROM:-0400
TZOFFSETTO:-0500
TZNAME:EST
DTSTART:20181104T060000
END:STANDARD
BEGIN:DAYLIGHT
TZOFFSETFROM:-0500
TZOFFSETTO:-0400
TZNAME:EDT
DTSTART:20190310T070000
END:DAYLIGHT
BEGIN:STANDARD
TZOFFSETFROM:-0400
TZOFFSETTO:-0500
TZNAME:EST
DTSTART:20191103T060000
END:STANDARD
BEGIN:DAYLIGHT
TZOFFSETFROM:-0500
TZOFFSETTO:-0400
TZNAME:EDT
DTSTART:20200308T070000
END:DAYLIGHT
BEGIN:STANDARD
TZOFFSETFROM:-0400
TZOFFSETTO:-0500
TZNAME:EST
DTSTART:20201101T060000
END:STANDARD
BEGIN:DAYLIGHT
TZOFFSETFROM:-0500
TZOFFSETTO:-0400
TZNAME:EDT
DTSTART:20210314T070000
END:DAYLIGHT
BEGIN:STANDARD
TZOFFSETFROM:-0400
TZOFFSETTO:-0500
TZNAME:EST
DTSTART:20211107T060000
END:STANDARD
BEGIN:DAYLIGHT
TZOFFSETFROM:-0500
TZOFFSETTO:-0400
TZNAME:EDT
DTSTART:20220313T070000
END:DAYLIGHT
BEGIN:STANDARD
TZOFFSETFROM:-0400
TZOFFSETTO:-0500
TZNAME:EST
DTSTART:20221106T060000
END:STANDARD
BEGIN:DAYLIGHT
TZOFFSETFROM:-0500
TZOFFSETTO:-0400
TZNAME:EDT
DTSTART:20230312T070000
END:DAYLIGHT
BEGIN:STANDARD
TZOFFSETFROM:-0400
TZOFFSETTO:-0500
TZNAME:EST
DTSTART:20231105T060000
END:STANDARD
BEGIN:DAYLIGHT
TZOFFSETFROM:-0500
TZOFFSETTO:-0400
TZNAME:EDT
DTSTART:20240310T070000
END:DAYLIGHT
BEGIN:STANDARD
TZOFFSETFROM:-0400
TZOFFSETTO:-0500
TZNAME:EST
DTSTART:20241103T060000
END:STANDARD
BEGIN:DAYLIGHT
TZOFFSETFROM:-0500
TZOFFSETTO:-0400
TZNAME:EDT
DTSTART:20250309T070000
END:DAYLIGHT
BEGIN:STANDARD
TZOFFSETFROM:-0400
TZOFFSETTO:-0500
TZNAME:EST
DTSTART:20251102T060000
END:STANDARD
BEGIN:DAYLIGHT
TZOFFSETFROM:-0500
TZOFFSETTO:-0400
TZNAME:EDT
DTSTART:20260308T070000
END:DAYLIGHT
BEGIN:STANDARD
TZOFFSETFROM:-0400
TZOFFSETTO:-0500
TZNAME:EST
DTSTART:20261101T060000
END:STANDARD
END:VTIMEZONE
BEGIN:VEVENT
DTSTART;VALUE=DATE:20250117
DTEND;VALUE=DATE:20250118
DTSTAMP:20260424T135606
CREATED:20240523T180214Z
LAST-MODIFIED:20240523T180214Z
UID:19493-1737072000-1737158399@www.bandlink.org
SUMMARY:Deadline: CPA\, CPA Supp. List\, & JPA Registration
DESCRIPTION:Registration deadline for CPA Supplemental List\, Jazz Ensemble Festival\, Junior and Senior Divisions CPA
URL:https://www.bandlink.org/event/deadline-cpa-cpa-supp-list-jpa-registration/
CATEGORIES:Concert Festival,Jazz,Registration Deadlines,Supplemental List
END:VEVENT
BEGIN:VEVENT
DTSTART;VALUE=DATE:20240119
DTEND;VALUE=DATE:20240120
DTSTAMP:20260424T135606
CREATED:20230514T172952Z
LAST-MODIFIED:20230514T172952Z
UID:18387-1705622400-1705708799@www.bandlink.org
SUMMARY:Deadline: CPA\, JPA\, & CPA Supplemental List
DESCRIPTION:
URL:https://www.bandlink.org/event/deadline-cpa-jpa-cpa-supplemental-list/
CATEGORIES:Concert Festival,Jazz,Registration Deadlines,Supplemental List
END:VEVENT
BEGIN:VEVENT
DTSTART;VALUE=DATE:20230113
DTEND;VALUE=DATE:20230114
DTSTAMP:20260424T135606
CREATED:20220516T202148Z
LAST-MODIFIED:20220516T202148Z
UID:17013-1673568000-1673654399@www.bandlink.org
SUMMARY:Registration Deadline: CPA\, JPA\, and CPA Supplemental List
DESCRIPTION:
URL:https://www.bandlink.org/event/registration-deadline-cpa-jpa-and-cpa-supplemental-list/
CATEGORIES:Concert Festival,Jazz,Registration Deadlines,Supplemental List
END:VEVENT
BEGIN:VEVENT
DTSTART;VALUE=DATE:20220107
DTEND;VALUE=DATE:20220108
DTSTAMP:20260424T135606
CREATED:20210518T123746Z
LAST-MODIFIED:20211203T175315Z
UID:15800-1641513600-1641599999@www.bandlink.org
SUMMARY:Deadline: CPA Supplemental List
DESCRIPTION:
URL:https://www.bandlink.org/event/deadline-cpa-jpa-supplemental-list/
CATEGORIES:Concert Festival,Registration Deadlines,Supplemental List
END:VEVENT
BEGIN:VEVENT
DTSTART;VALUE=DATE:20190111
DTEND;VALUE=DATE:20190112
DTSTAMP:20260424T135606
CREATED:20180419T175912Z
LAST-MODIFIED:20180419T175912Z
UID:12387-1547164800-1547251199@www.bandlink.org
SUMMARY:Registration Deadline: JPA\, CPA\, & Supplemental List
DESCRIPTION:Registration Deadline for Jazz Performance Assessment\, Concert Performance Assessment\, and CPA Supplemental List.
URL:https://www.bandlink.org/event/registration-deadline-jpa-cpa-supplemental-list/
CATEGORIES:Concert Festival,Jazz,Registration Deadlines,Supplemental List
END:VEVENT
BEGIN:VEVENT
DTSTART;VALUE=DATE:20180112
DTEND;VALUE=DATE:20180113
DTSTAMP:20260424T135606
CREATED:20170515T121040Z
LAST-MODIFIED:20170515T121040Z
UID:10742-1515715200-1515801599@www.bandlink.org
SUMMARY:Deadline: JPA\, CPA\, & Supplemental List
DESCRIPTION:Registrations for \n\nJazz Performance Assessment\nConcert Performance Assessment (Junior & Senior Levels)\nSupplemental List (CPA)\n\nmust be submitted online and associated paperwork postmarked by this date. Please contact the event chairman and see the SCBDA Handbook if you have any questions or concerns.
URL:https://www.bandlink.org/event/deadline-jpa-cpa-supplemental-list/
CATEGORIES:Concert Festival,Jazz,Supplemental List
END:VEVENT
END:VCALENDAR