BEGIN:VCALENDAR
VERSION:2.0
PRODID:-//South Carolina Band Directors Association - ECPv6.15.20//NONSGML v1.0//EN
CALSCALE:GREGORIAN
METHOD:PUBLISH
X-WR-CALNAME:South Carolina Band Directors Association
X-ORIGINAL-URL:https://www.bandlink.org
X-WR-CALDESC:Events for South Carolina Band Directors Association
REFRESH-INTERVAL;VALUE=DURATION:PT1H
X-Robots-Tag:noindex
X-PUBLISHED-TTL:PT1H
BEGIN:VTIMEZONE
TZID:America/New_York
BEGIN:DAYLIGHT
TZOFFSETFROM:-0500
TZOFFSETTO:-0400
TZNAME:EDT
DTSTART:20220313T070000
END:DAYLIGHT
BEGIN:STANDARD
TZOFFSETFROM:-0400
TZOFFSETTO:-0500
TZNAME:EST
DTSTART:20221106T060000
END:STANDARD
BEGIN:DAYLIGHT
TZOFFSETFROM:-0500
TZOFFSETTO:-0400
TZNAME:EDT
DTSTART:20230312T070000
END:DAYLIGHT
BEGIN:STANDARD
TZOFFSETFROM:-0400
TZOFFSETTO:-0500
TZNAME:EST
DTSTART:20231105T060000
END:STANDARD
BEGIN:DAYLIGHT
TZOFFSETFROM:-0500
TZOFFSETTO:-0400
TZNAME:EDT
DTSTART:20240310T070000
END:DAYLIGHT
BEGIN:STANDARD
TZOFFSETFROM:-0400
TZOFFSETTO:-0500
TZNAME:EST
DTSTART:20241103T060000
END:STANDARD
END:VTIMEZONE
BEGIN:VEVENT
DTSTART;VALUE=DATE:20230204
DTEND;VALUE=DATE:20230205
DTSTAMP:20260424T054311
CREATED:20220516T203127Z
LAST-MODIFIED:20220516T203127Z
UID:17029-1675468800-1675555199@www.bandlink.org
SUMMARY:Master Recital & Jazz Honors Combo
DESCRIPTION:
URL:https://www.bandlink.org/event/master-recital-jazz-honors-combo/
LOCATION:USC Alumni Center\, 900 Senate Street\, Columbia\, SC\, 29201\, United States
CATEGORIES:Jazz,Solo & Ensemble
END:VEVENT
END:VCALENDAR