BEGIN:VCALENDAR
VERSION:2.0
PRODID:-//South Carolina Band Directors Association - ECPv6.15.20//NONSGML v1.0//EN
CALSCALE:GREGORIAN
METHOD:PUBLISH
X-ORIGINAL-URL:https://www.bandlink.org
X-WR-CALDESC:Events for South Carolina Band Directors Association
REFRESH-INTERVAL;VALUE=DURATION:PT1H
X-Robots-Tag:noindex
X-PUBLISHED-TTL:PT1H
BEGIN:VTIMEZONE
TZID:America/New_York
BEGIN:DAYLIGHT
TZOFFSETFROM:-0500
TZOFFSETTO:-0400
TZNAME:EDT
DTSTART:20210314T070000
END:DAYLIGHT
BEGIN:STANDARD
TZOFFSETFROM:-0400
TZOFFSETTO:-0500
TZNAME:EST
DTSTART:20211107T060000
END:STANDARD
BEGIN:DAYLIGHT
TZOFFSETFROM:-0500
TZOFFSETTO:-0400
TZNAME:EDT
DTSTART:20220313T070000
END:DAYLIGHT
BEGIN:STANDARD
TZOFFSETFROM:-0400
TZOFFSETTO:-0500
TZNAME:EST
DTSTART:20221106T060000
END:STANDARD
BEGIN:DAYLIGHT
TZOFFSETFROM:-0500
TZOFFSETTO:-0400
TZNAME:EDT
DTSTART:20230312T070000
END:DAYLIGHT
BEGIN:STANDARD
TZOFFSETFROM:-0400
TZOFFSETTO:-0500
TZNAME:EST
DTSTART:20231105T060000
END:STANDARD
END:VTIMEZONE
BEGIN:VEVENT
DTSTART;VALUE=DATE:20220204
DTEND;VALUE=DATE:20220205
DTSTAMP:20260425T111458
CREATED:20210518T124121Z
LAST-MODIFIED:20210518T124121Z
UID:15808-1643932800-1644019199@www.bandlink.org
SUMMARY:Deadline: All-State Band Clinic & Winter Ensemble Championships
DESCRIPTION:
URL:https://www.bandlink.org/event/deadline-all-state-band-clinic-winter-ensemble-championships/
LOCATION:SC
CATEGORIES:All-State Band,Clinics,Registration Deadlines,Winter Ensembles
END:VEVENT
BEGIN:VEVENT
DTSTART;VALUE=DATE:20220218
DTEND;VALUE=DATE:20220220
DTSTAMP:20260425T111458
CREATED:20210728T192043Z
LAST-MODIFIED:20210911T035712Z
UID:16036-1645142400-1645315199@www.bandlink.org
SUMMARY:Region Band Clinics
DESCRIPTION:Regions 1\, 3\, 4\, and 6
URL:https://www.bandlink.org/event/region-band-clinics-3/
LOCATION:SC
CATEGORIES:Clinics,Region Band
END:VEVENT
BEGIN:VEVENT
DTSTART;VALUE=DATE:20220225
DTEND;VALUE=DATE:20220227
DTSTAMP:20260425T111458
CREATED:20210518T124555Z
LAST-MODIFIED:20210911T035657Z
UID:15812-1645747200-1645919999@www.bandlink.org
SUMMARY:Region Band Clinics
DESCRIPTION:Regions 2 & 5
URL:https://www.bandlink.org/event/region-band-clinics-2/
LOCATION:SC
CATEGORIES:Clinics,Region Band
END:VEVENT
END:VCALENDAR